BEGIN:VCALENDAR
VERSION:2.0
PRODID:-//ChamberMaster//Event Calendar 2.0//EN
METHOD:PUBLISH
X-PUBLISHED-TTL:P3D
REFRESH-INTERVAL:P3D
CALSCALE:GREGORIAN
BEGIN:VEVENT
DTSTART:20260514T133000Z
DTEND:20260514T143000Z
X-MICROSOFT-CDO-ALLDAYEVENT:FALSE
SUMMARY:Wheaton Business Inclusion Alliance Meeting: WDSRA
DESCRIPTION:Join Wheaton Chamber at the Western DuPage Recreation Association for a fun presentation on learning the community and culture within their business.\n\nCoffee and a light breakfast will be provided. \n\n\n\nMembers of this committee will be learning more about inclusion and the impact on business and economics. This committee meets once a month and is chaired by Jill Mason of TrustBank.
X-ALT-DESC;FMTTYPE=text/html:<span style="font-size:18px\;"><span style="font-family:times new roman\;">Join Wheaton Chamber at the Western DuPage Recreation Association for a fun presentation on learning the community and culture within their business.<br />\nCoffee and a light breakfast will be provided.&nbsp\;<br />\n<br />\nMembers of this committee will be learning more about inclusion and the impact on business and economics. This committee meets once a month and is chaired by Jill Mason of TrustBank.</span></span>
LOCATION:Western DuPage Recreation Association 116 N. Schmale Rd. Carol Stream\, IL 60188
UID:e.864.23934
SEQUENCE:3
DTSTAMP:20260423T172743Z
URL:http://members.wheatonchamber.com/events/details/wheaton-business-inclusion-alliance-meeting-wdsra-23934
END:VEVENT

END:VCALENDAR
